BEGIN:VCALENDAR
VERSION:2.0
PRODID:-//wp-events-plugin.com//7.2.3.1//EN
TZID:Europe/Vienna
X-WR-TIMEZONE:Europe/Vienna
BEGIN:VEVENT
UID:372@balancelife.at
DTSTART;TZID=Europe/Vienna:20261010T140000
DTEND;TZID=Europe/Vienna:20261010T200000
DTSTAMP:20260108T100552Z
URL:https://balancelife.at/events/gin-tasting-und-workshop-wien-destillier
 e-deinen-persoenlichen-exklusiven-gin-oktober-2026/
SUMMARY:Gin Tasting und Workshop Wien | die Geschenkidee | destilliere Dein
 en persönlichen\, exklusiven Gin - Oktober 2026
DESCRIPTION:Wer hat schon einen ganz nach dem eigenen Geschmack abgestimmte
 n Gin? Ja richtig gehört - ein Gin der ganz für Dich abgestimmt wird. Di
 eser Gin Workshop ist etwas ganz Außergewöhnliches\, etwas Besonderes f
 ür besondere Genießer! Du bist doch eine Genießerin oder ein Genießer?
 \nDann ist das das Richtige für Dich selbst oder für jemanden ganz Beson
 deren. Überrasche doch jemanden mit diesem einzigartigen Genuss - oder Di
 ch selbst. Stelle Dir selbst Deinen "Personal Gin" her.\nBei diesem exklus
 iven Gin Workshop erfährst Du die Grundlagen der Gin-Herstellung. Aber ni
 cht nur das! Du wählst auch gemeinsam mit den Genussberater Peter die Zut
 aten zu Deinem "Personal Gin" aus. Es stehen viele Herbals und natürliche
  Essenzen zur Auswahl - da fällt die Wahl gar nicht so leicht. Da ist Kon
 zentration und ein guter Geruchssinn und auch Spaß gefragt. Doch die gute
  Laune kommt bei den tollen Zutaten ganz von Alleine.\n\n&nbsp\;\n\n[galle
 ry size="medium" ids="7065\,7068\,5973\,7079\,6342\,7089\,5976\,5256\,5974
 \,4792\,5972\,7085\,7086\,7082"]\n\nDann werden all die ausgewählten Zuta
 ten in ein gut abgestimmtes\, geschmackvolles Verhältnis gebracht und zus
 ammen gemischt. Und dann kommt der "Feinschliff".\n\nNun kommt der zweite 
 Teil der Herstellung: die Destillation. Mit einer kleinen 2 Liter Destille
  aus Kupfer brennt jede Gin Genießerin und jeder Genießer den Gin. Natü
 rlich unter "Aufsicht" und mit Rat und Tat von Peter - dem Spezialisten. A
 uch dabei ist Geduld gefragt. Doch die Zeit vergeht sehr rasch - mit plaud
 ern\, verkosten\, Erzählungen\, Anekdoten und plötzlich hast Du den fert
 igen Gin in der Hand. Mit einer Flasche 0\,7 Liter "Personal Gin" und nat
 ürlich für Dich etikettiert gehst Du nach dem 2. Workshop-Teil nach Haus
 e.\n\nEin Erlebnis der Sonderklasse liegt hinter Dir\, ein Erlebnis zum Er
 innern und von dem Du sicher etwas zu erzählen hast. Und vor Dir liegt de
 r Genuss Deines Gins - Deines "Personal Gin's". Ein einzigartiger Gin\, de
 n nur Du ausgewählt und komponiert hast. Gratulation!\n\nUnd jetzt? Nicht
  weiter träumen - jetzt gleich buchen.\n\n&nbsp\;\n\nDauer des gesamten W
 orkshops: etwa 6 Stunden\nMaximal 12 TeilnehmerInnen.\n\npictures by Alici
 a Weyrich\, leinen-los.at&nbsp\; und Peter Gstettner\n\nHinweis\nBitte bea
 chte: datumsbezogene Workshop- und Event-Tickets können im Normalfall nic
 ht storniert oder auf andere Termine umgebucht werden. Da Tickets datumsge
 bunden vergeben werden\, hat der Gesetzgeber entschieden\, dass Tickets vo
 m allgemeinen Rückgaberecht ausgenommen sind. Der Grund hierfür ist\, da
 ss der Veranstalter sonst keine Planungssicherheit für Ihre Veranstaltung
 en haben.\nEs ist allerdings möglich\, das Ticket auf eine andere Person 
 umzuschreiben. Dabei ist jedoch zu beachten\, dass diese Umschreibung imme
 r nur vom Veranstalter selbst durchgeführt werden darf und somit sein Ein
 verständnis benötigt.&nbsp\;\nEine Bestellung von datumsbezogenen Worksh
 op-Tickets (einerlei ob per Telefon\, Internet oder persönlich) ist verbi
 ndlich und kann nicht storniert werden. Terminverschiebungen sind übliche
 r Weise in Kulanz (bis spätestens 6 Werktage vor dem gebuchten Termin) na
 ch Rückfrage möglich.\nBitte beachte: Für Tickets besteht kein Rücktri
 ttsrecht gem. § 18 (1) Z10 FAGG.
ATTACH;FMTTYPE=image/jpeg:https://balancelife.at/wp-content/uploads/2023/0
 9/Gin-Workshop-202308-09.jpg
CATEGORIES:Workshop,Seminar
LOCATION:Salon Alserbach\, Alserbachstraße 8/20\, Wien\, 1090\, Österreic
 h
X-APPLE-STRUCTURED-LOCATION;VALUE=URI;X-ADDRESS=Alserbachstraße 8/20\, Wie
 n\, 1090\, Österreich;X-APPLE-RADIUS=100;X-TITLE=Salon Alserbach:geo:0,0
END:VEVENT
BEGIN:VTIMEZONE
TZID:Europe/Vienna
X-LIC-LOCATION:Europe/Vienna
BEGIN:DAYLIGHT
DTSTART:20260329T030000
TZOFFSETFROM:+0100
TZOFFSETTO:+0200
TZNAME:CEST
END:DAYLIGHT
END:VTIMEZONE
END:VCALENDAR